BEGIN:VCALENDAR
VERSION:2.0
PRODID:TypiCMS
BEGIN:VEVENT
UID:69e5b55107892
DTSTART;VALUE=DATE:20180418
SEQUENCE:0
TRANSP:OPAQUE
DTEND;VALUE=DATE:20180419
URL:https://assured-project.eu/news-and-events/events/assured-talk-accelera
 ting-the-upscale-of-urban-full-size-commercial-fleets
SUMMARY:ASSURED Talks \"Accelerating the upscale of urban full-size commerc
 ial fleets\"
CLASS:PUBLIC
X-MICROSOFT-CDO-ALLDAYEVENT:TRUE
DTSTAMP:20260420T071041Z
END:VEVENT
END:VCALENDAR