BEGIN:VCALENDAR
VERSION:2.0
PRODID:TypiCMS
BEGIN:VEVENT
UID:69e5b78c4fa49
DTSTART;VALUE=DATE:20191018
SEQUENCE:0
TRANSP:OPAQUE
DTEND;VALUE=DATE:20191024
URL:https://assured-project.eu/news-and-events/events/busworld
SUMMARY:Busworld
CLASS:PUBLIC
X-MICROSOFT-CDO-ALLDAYEVENT:TRUE
DTSTAMP:20260420T072012Z
END:VEVENT
END:VCALENDAR