BEGIN:VCALENDAR
VERSION:2.0
PRODID:TypiCMS
BEGIN:VEVENT
UID:69e5b56bb193b
DTSTART;VALUE=DATE:20191002
SEQUENCE:0
TRANSP:OPAQUE
DTEND;VALUE=DATE:20191005
URL:https://assured-project.eu/news-and-events/events/civitas-forum-2019
SUMMARY:CIVITAS Forum 2019
CLASS:PUBLIC
X-MICROSOFT-CDO-ALLDAYEVENT:TRUE
DTSTAMP:20260420T071107Z
END:VEVENT
END:VCALENDAR