BEGIN:VCALENDAR
VERSION:2.0
PRODID:TypiCMS
BEGIN:VEVENT
UID:69e5b7e575de4
DTSTART;VALUE=DATE:20211214
SEQUENCE:0
TRANSP:OPAQUE
DTEND;VALUE=DATE:20211215
URL:https://assured-project.eu/news-and-events/events/international-and-reg
 ional-seminar-current-trends-and-future-opportunities-in-public-transport
SUMMARY:International & Regional Seminar \"Current Trends and Future Opport
 unities in Public Transport
CLASS:PUBLIC
X-MICROSOFT-CDO-ALLDAYEVENT:TRUE
DTSTAMP:20260420T072141Z
END:VEVENT
END:VCALENDAR