BEGIN:VCALENDAR
VERSION:2.0
PRODID:TypiCMS
BEGIN:VEVENT
UID:69e5b5e06c780
DTSTART;VALUE=DATE:20180306
SEQUENCE:0
TRANSP:OPAQUE
DTEND;VALUE=DATE:20180309
URL:https://assured-project.eu/news-and-events/events/it-trans-2018
SUMMARY:IT-TRANS 2018
CLASS:PUBLIC
X-MICROSOFT-CDO-ALLDAYEVENT:TRUE
DTSTAMP:20260420T071304Z
END:VEVENT
END:VCALENDAR