BEGIN:VCALENDAR
VERSION:2.0
PRODID:TypiCMS
BEGIN:VEVENT
UID:69e5b6443b4ca
DTSTART;VALUE=DATE:20190603
SEQUENCE:0
TRANSP:OPAQUE
DTEND;VALUE=DATE:20190607
URL:https://assured-project.eu/news-and-events/events/its-european-congress
SUMMARY:ITS European Congress
CLASS:PUBLIC
X-MICROSOFT-CDO-ALLDAYEVENT:TRUE
DTSTAMP:20260420T071444Z
END:VEVENT
END:VCALENDAR