BEGIN:VCALENDAR
VERSION:2.0
PRODID:TypiCMS
BEGIN:VEVENT
UID:69e5b5b065c76
DTSTART;VALUE=DATE:20180315
SEQUENCE:0
TRANSP:OPAQUE
DTEND;VALUE=DATE:20180316
URL:https://assured-project.eu/news-and-events/events/score-final-conferenc
 e-at-fondation-universitaire
SUMMARY:SCORE Final Conference at Fondation Universitaire
CLASS:PUBLIC
X-MICROSOFT-CDO-ALLDAYEVENT:TRUE
DTSTAMP:20260420T071216Z
END:VEVENT
END:VCALENDAR