BEGIN:VCALENDAR
VERSION:2.0
PRODID:TypiCMS
BEGIN:VEVENT
UID:69e5b706f0d25
DTSTART;VALUE=DATE:20201005
SEQUENCE:0
TRANSP:OPAQUE
DTEND;VALUE=DATE:20201023
URL:https://assured-project.eu/news-and-events/events/the-european-week-of-
 regions-and-cities
SUMMARY:The European Week of Regions and Cities
CLASS:PUBLIC
X-MICROSOFT-CDO-ALLDAYEVENT:TRUE
DTSTAMP:20260420T071758Z
END:VEVENT
END:VCALENDAR