BEGIN:VCALENDAR
VERSION:2.0
PRODID:TypiCMS
BEGIN:VEVENT
UID:69e5b61b0afad
DTSTART;VALUE=DATE:20190609
SEQUENCE:0
TRANSP:OPAQUE
DTEND;VALUE=DATE:20190613
URL:https://assured-project.eu/news-and-events/events/uitp-global-public-tr
 ansport-summit
SUMMARY:UITP Global Public Transport Summit
CLASS:PUBLIC
X-MICROSOFT-CDO-ALLDAYEVENT:TRUE
DTSTAMP:20260420T071403Z
END:VEVENT
END:VCALENDAR