BEGIN:VCALENDAR
VERSION:2.0
PRODID:TypiCMS
BEGIN:VEVENT
UID:69e5b6441aaea
DTSTART;VALUE=DATE:20210506
SEQUENCE:0
TRANSP:OPAQUE
DTEND;VALUE=DATE:20210507
URL:https://assured-project.eu/news-and-events/events/webinar-sustainable-b
 us-the-electric-depot-charging-and-managing-large-e-bus-fleets
SUMMARY:Webinar Sustainable Bus: ‘The electric depot. Charging and managi
 ng large e-bus fleets’
CLASS:PUBLIC
X-MICROSOFT-CDO-ALLDAYEVENT:TRUE
DTSTAMP:20260420T071444Z
END:VEVENT
END:VCALENDAR