BEGIN:VCALENDAR
VERSION:2.0
PRODID:TypiCMS
BEGIN:VEVENT
UID:69e5b7565e556
DTSTART;VALUE=DATE:20211117
SEQUENCE:0
TRANSP:OPAQUE
DTEND;VALUE=DATE:20211119
URL:https://assured-project.eu/news-and-events/events/zeb-conference
LOCATION:Paris
SUMMARY:ZEB Conference
CLASS:PUBLIC
X-MICROSOFT-CDO-ALLDAYEVENT:TRUE
DTSTAMP:20260420T071918Z
END:VEVENT
END:VCALENDAR