BEGIN:VCALENDAR
VERSION:2.0
PRODID:TypiCMS
BEGIN:VEVENT
UID:69e5b512a25d6
DTSTART;VALUE=DATE:20180320
SEQUENCE:0
TRANSP:OPAQUE
DTEND;VALUE=DATE:20180321
URL:https://assured-project.eu/news-and-events/events/zeeus-final-event
SUMMARY:ZeEUS Final Event
CLASS:PUBLIC
X-MICROSOFT-CDO-ALLDAYEVENT:TRUE
DTSTAMP:20260420T070938Z
END:VEVENT
END:VCALENDAR